BEGIN:VCALENDAR
VERSION:2.0
PRODID:-//NCACC - ECPv6.15.18//NONSGML v1.0//EN
CALSCALE:GREGORIAN
METHOD:PUBLISH
X-ORIGINAL-URL:https://caesarcreekstatepark.com
X-WR-CALDESC:Events for NCACC
REFRESH-INTERVAL;VALUE=DURATION:PT1H
X-Robots-Tag:noindex
X-PUBLISHED-TTL:PT1H
BEGIN:VTIMEZONE
TZID:America/New_York
BEGIN:DAYLIGHT
TZOFFSETFROM:-0500
TZOFFSETTO:-0400
TZNAME:EDT
DTSTART:20240310T070000
END:DAYLIGHT
BEGIN:STANDARD
TZOFFSETFROM:-0400
TZOFFSETTO:-0500
TZNAME:EST
DTSTART:20241103T060000
END:STANDARD
BEGIN:DAYLIGHT
TZOFFSETFROM:-0500
TZOFFSETTO:-0400
TZNAME:EDT
DTSTART:20250309T070000
END:DAYLIGHT
BEGIN:STANDARD
TZOFFSETFROM:-0400
TZOFFSETTO:-0500
TZNAME:EST
DTSTART:20251102T060000
END:STANDARD
BEGIN:DAYLIGHT
TZOFFSETFROM:-0500
TZOFFSETTO:-0400
TZNAME:EDT
DTSTART:20260308T070000
END:DAYLIGHT
BEGIN:STANDARD
TZOFFSETFROM:-0400
TZOFFSETTO:-0500
TZNAME:EST
DTSTART:20261101T060000
END:STANDARD
END:VTIMEZONE
BEGIN:VEVENT
DTSTART;TZID=America/New_York:20250801T100000
DTEND;TZID=America/New_York:20250801T110000
DTSTAMP:20260424T224133
CREATED:20250627T212954Z
LAST-MODIFIED:20250627T212954Z
UID:2040-1754042400-1754046000@caesarcreekstatepark.com
SUMMARY:Birds of Prey
DESCRIPTION:Meet our hawk and owl up close\nLearn about birds you may see and why they are important\nNo seating available. Feel welcome to bring a chair if you’d like\nMeet at Pioneer Village
URL:https://caesarcreekstatepark.com/event/birds-of-prey-3/
LOCATION:Pioneer Village\, 3999 Pioneer Village Road\, Waynesville\, Ohio\, 45068
END:VEVENT
BEGIN:VEVENT
DTSTART;TZID=America/New_York:20250801T130000
DTEND;TZID=America/New_York:20250801T150000
DTSTAMP:20260424T224133
CREATED:20250627T213240Z
LAST-MODIFIED:20250627T213240Z
UID:2044-1754053200-1754060400@caesarcreekstatepark.com
SUMMARY:Fitness Hike
DESCRIPTION:Join the naturalist for a refreshing 5-mile guided hike\nThis moderately challenging trail has one stream crossing and a few hills\nTrails can be muddy\nMeet at the Day Lodge
URL:https://caesarcreekstatepark.com/event/fitness-hike-2/
LOCATION:Hopewell Day Lodge\, Middletown Road\, Waynesville\, Ohio\, 45068
END:VEVENT
END:VCALENDAR