BEGIN:VCALENDAR
VERSION:2.0
PRODID:-//NCACC - ECPv6.15.18//NONSGML v1.0//EN
CALSCALE:GREGORIAN
METHOD:PUBLISH
X-WR-CALNAME:NCACC
X-ORIGINAL-URL:https://caesarcreekstatepark.com
X-WR-CALDESC:Events for NCACC
REFRESH-INTERVAL;VALUE=DURATION:PT1H
X-Robots-Tag:noindex
X-PUBLISHED-TTL:PT1H
BEGIN:VTIMEZONE
TZID:America/New_York
BEGIN:DAYLIGHT
TZOFFSETFROM:-0500
TZOFFSETTO:-0400
TZNAME:EDT
DTSTART:20240310T070000
END:DAYLIGHT
BEGIN:STANDARD
TZOFFSETFROM:-0400
TZOFFSETTO:-0500
TZNAME:EST
DTSTART:20241103T060000
END:STANDARD
BEGIN:DAYLIGHT
TZOFFSETFROM:-0500
TZOFFSETTO:-0400
TZNAME:EDT
DTSTART:20250309T070000
END:DAYLIGHT
BEGIN:STANDARD
TZOFFSETFROM:-0400
TZOFFSETTO:-0500
TZNAME:EST
DTSTART:20251102T060000
END:STANDARD
BEGIN:DAYLIGHT
TZOFFSETFROM:-0500
TZOFFSETTO:-0400
TZNAME:EDT
DTSTART:20260308T070000
END:DAYLIGHT
BEGIN:STANDARD
TZOFFSETFROM:-0400
TZOFFSETTO:-0500
TZNAME:EST
DTSTART:20261101T060000
END:STANDARD
END:VTIMEZONE
BEGIN:VEVENT
DTSTART;TZID=America/New_York:20250809T160000
DTEND;TZID=America/New_York:20250810T100000
DTSTAMP:20260424T223952
CREATED:20250627T214410Z
LAST-MODIFIED:20250627T214410Z
UID:2052-1754755200-1754820000@caesarcreekstatepark.com
SUMMARY:Meteor Shower Campout
DESCRIPTION:Watch the peak of the Perseid Meteor Shower with us on the beach. Enjoy star-gazing\, family games\, a bonfire\, and more! Fun for the whole family.\nMeet partner astronomy organizations\, such as The Miami Vally Astronomical Society and Dark Sky Ohio\nFood and drinks will be available through the NCACC. All funds raised support our park\, programs\, and trails\nPre-registration though Eventbrite is recommended not required. Overnight camping is not required to participate\nDetails will be available on the Caesar Creek State Park Facebook page and Eventbrite as the event gets closer\nMeet at the Public Beach
URL:https://caesarcreekstatepark.com/event/meteor-shower-campout/
LOCATION:Caesar Creek Public Beach\, 8570 E State Route 73\, Waynesville\, Ohio\, 45068
END:VEVENT
END:VCALENDAR