BEGIN:VCALENDAR
VERSION:2.0
PRODID:-//NCACC - ECPv6.15.18//NONSGML v1.0//EN
CALSCALE:GREGORIAN
METHOD:PUBLISH
X-WR-CALNAME:NCACC
X-ORIGINAL-URL:https://caesarcreekstatepark.com
X-WR-CALDESC:Events for NCACC
REFRESH-INTERVAL;VALUE=DURATION:PT1H
X-Robots-Tag:noindex
X-PUBLISHED-TTL:PT1H
BEGIN:VTIMEZONE
TZID:America/New_York
BEGIN:DAYLIGHT
TZOFFSETFROM:-0500
TZOFFSETTO:-0400
TZNAME:EDT
DTSTART:20240310T070000
END:DAYLIGHT
BEGIN:STANDARD
TZOFFSETFROM:-0400
TZOFFSETTO:-0500
TZNAME:EST
DTSTART:20241103T060000
END:STANDARD
BEGIN:DAYLIGHT
TZOFFSETFROM:-0500
TZOFFSETTO:-0400
TZNAME:EDT
DTSTART:20250309T070000
END:DAYLIGHT
BEGIN:STANDARD
TZOFFSETFROM:-0400
TZOFFSETTO:-0500
TZNAME:EST
DTSTART:20251102T060000
END:STANDARD
BEGIN:DAYLIGHT
TZOFFSETFROM:-0500
TZOFFSETTO:-0400
TZNAME:EDT
DTSTART:20260308T070000
END:DAYLIGHT
BEGIN:STANDARD
TZOFFSETFROM:-0400
TZOFFSETTO:-0500
TZNAME:EST
DTSTART:20261101T060000
END:STANDARD
END:VTIMEZONE
BEGIN:VEVENT
DTSTART;TZID=America/New_York:20250829T130000
DTEND;TZID=America/New_York:20250829T140000
DTSTAMP:20260424T223916
CREATED:20250627T214948Z
LAST-MODIFIED:20250627T214948Z
UID:2066-1756472400-1756476000@caesarcreekstatepark.com
SUMMARY:Fossil Hunt
DESCRIPTION:Learn about the geology of Caesar Creek during a hands on fossil hunt\nDress for the weather\nMeet the naturalist in the Spillway parking lot near the dam
URL:https://caesarcreekstatepark.com/event/fossil-hunt-2/
LOCATION:Spillway Parking lot\, N. Clarksville Road\, Waynesville\, Ohio\, 45068
END:VEVENT
BEGIN:VEVENT
DTSTART;TZID=America/New_York:20250829T170000
DTEND;TZID=America/New_York:20250829T180000
DTSTAMP:20260424T223916
CREATED:20250627T215043Z
LAST-MODIFIED:20250627T215043Z
UID:2069-1756486800-1756490400@caesarcreekstatepark.com
SUMMARY:See Seymore The Giant Sycamore
DESCRIPTION:Listen to a short storybook written by the Nature Center Association of Caesar Creek about the local area narrated by Seymore\nJoin the naturalist for a one-mile walk guided walk to see the largest tree in the park\nMeet at Roxanna-New Burlington Wildlife Area parking lot
URL:https://caesarcreekstatepark.com/event/see-seymore-the-giant-sycamore-2/
LOCATION:Caesar Creek State Park Wildlife Area Parking\, Roxanna New Burlington Rd\, Xenia\, Ohio\, 45385
END:VEVENT
END:VCALENDAR