BEGIN:VCALENDAR
VERSION:2.0
PRODID:-//NCACC - ECPv6.15.18//NONSGML v1.0//EN
CALSCALE:GREGORIAN
METHOD:PUBLISH
X-WR-CALNAME:NCACC
X-ORIGINAL-URL:https://caesarcreekstatepark.com
X-WR-CALDESC:Events for NCACC
REFRESH-INTERVAL;VALUE=DURATION:PT1H
X-Robots-Tag:noindex
X-PUBLISHED-TTL:PT1H
BEGIN:VTIMEZONE
TZID:America/New_York
BEGIN:DAYLIGHT
TZOFFSETFROM:-0500
TZOFFSETTO:-0400
TZNAME:EDT
DTSTART:20240310T070000
END:DAYLIGHT
BEGIN:STANDARD
TZOFFSETFROM:-0400
TZOFFSETTO:-0500
TZNAME:EST
DTSTART:20241103T060000
END:STANDARD
BEGIN:DAYLIGHT
TZOFFSETFROM:-0500
TZOFFSETTO:-0400
TZNAME:EDT
DTSTART:20250309T070000
END:DAYLIGHT
BEGIN:STANDARD
TZOFFSETFROM:-0400
TZOFFSETTO:-0500
TZNAME:EST
DTSTART:20251102T060000
END:STANDARD
BEGIN:DAYLIGHT
TZOFFSETFROM:-0500
TZOFFSETTO:-0400
TZNAME:EDT
DTSTART:20260308T070000
END:DAYLIGHT
BEGIN:STANDARD
TZOFFSETFROM:-0400
TZOFFSETTO:-0500
TZNAME:EST
DTSTART:20261101T060000
END:STANDARD
END:VTIMEZONE
BEGIN:VEVENT
DTSTART;TZID=America/New_York:20250830T093000
DTEND;TZID=America/New_York:20250830T103000
DTSTAMP:20260424T223915
CREATED:20250627T215126Z
LAST-MODIFIED:20250627T215126Z
UID:2072-1756546200-1756549800@caesarcreekstatepark.com
SUMMARY:Nature Scavenger Hunt in the Campground
DESCRIPTION:Discover nature around you during a fun scavenger hunt with the naturalist\nChildren must be accompanied by adults\nMeet at the campground shelter house
URL:https://caesarcreekstatepark.com/event/nature-scavenger-hunt-in-the-campground-3/
LOCATION:Caesar Creek Campground Shelter House\, 9000 Center Road\, Wilmington\, Ohio\, 45068
END:VEVENT
BEGIN:VEVENT
DTSTART;TZID=America/New_York:20250830T103000
DTEND;TZID=America/New_York:20250830T120000
DTSTAMP:20260424T223915
CREATED:20250627T215216Z
LAST-MODIFIED:20250627T215216Z
UID:2074-1756549800-1756555200@caesarcreekstatepark.com
SUMMARY:Kayak / Canoe Wildlife Excursion in the Campground
DESCRIPTION:Participants must be onsite by 10:30 am to participate\nEarly arrival is recommended\nAll equipment and instruction provided\nEquipment is limited. First come\, first serve\nLearn the basics of canoeing and kayaking\nWear water shoes (not flip-flops) and clothes that can get wet\nLength of excursions will vary\nWeather dependent\nFun for the whole family\nMeet at the Yak Shack near the Campground Boat Ramp. Free
URL:https://caesarcreekstatepark.com/event/kayak-canoe-wildlife-excursion-in-the-campground-7/
LOCATION:Caesar Creek Campground Boat Ramp\, 9000 Center Road\, Wilmington\, Ohio\, 45068
END:VEVENT
BEGIN:VEVENT
DTSTART;TZID=America/New_York:20250830T130000
DTEND;TZID=America/New_York:20250830T143000
DTSTAMP:20260424T223915
CREATED:20250627T215256Z
LAST-MODIFIED:20250627T215256Z
UID:2076-1756558800-1756564200@caesarcreekstatepark.com
SUMMARY:Stand-Up Paddle Board in the Campground\, Session One\, Additional sessions added as needed
DESCRIPTION:All participants go through instructions near the SUP HUT together starting at 1pm. Then we will continue additional on water sessions throughout the afternoon to get everyone through\nArrive early to sign waivers and get fitted for lifejackets\nAll participants must be registered before 1pm to participate\nParticipants who arrive after 1pm will not be permitted\nInstruction begins at 1pm\nLearn the basics of stand-up paddle boarding\nMeet at the SUP Hut near the Campground Boat Ramp\nWear water shoes (not flip-flops) and clothes that can get wet\nThe length of excursions will vary\nEquipment and instruction provided. Equipment is limited\nFirst come\, first serve\nWeather dependent\nMeet at the campground boat ramp\, SUP Hut. Free
URL:https://caesarcreekstatepark.com/event/stand-up-paddle-board-in-the-campground-session-one-additional-sessions-added-as-needed-6/
LOCATION:Caesar Creek Campground Boat Ramp\, 9000 Center Road\, Wilmington\, Ohio\, 45068
END:VEVENT
END:VCALENDAR