BEGIN:VCALENDAR
VERSION:2.0
PRODID:-//NCACC - ECPv6.15.18//NONSGML v1.0//EN
CALSCALE:GREGORIAN
METHOD:PUBLISH
X-ORIGINAL-URL:https://caesarcreekstatepark.com
X-WR-CALDESC:Events for NCACC
REFRESH-INTERVAL;VALUE=DURATION:PT1H
X-Robots-Tag:noindex
X-PUBLISHED-TTL:PT1H
BEGIN:VTIMEZONE
TZID:America/New_York
BEGIN:DAYLIGHT
TZOFFSETFROM:-0500
TZOFFSETTO:-0400
TZNAME:EDT
DTSTART:20240310T070000
END:DAYLIGHT
BEGIN:STANDARD
TZOFFSETFROM:-0400
TZOFFSETTO:-0500
TZNAME:EST
DTSTART:20241103T060000
END:STANDARD
BEGIN:DAYLIGHT
TZOFFSETFROM:-0500
TZOFFSETTO:-0400
TZNAME:EDT
DTSTART:20250309T070000
END:DAYLIGHT
BEGIN:STANDARD
TZOFFSETFROM:-0400
TZOFFSETTO:-0500
TZNAME:EST
DTSTART:20251102T060000
END:STANDARD
BEGIN:DAYLIGHT
TZOFFSETFROM:-0500
TZOFFSETTO:-0400
TZNAME:EDT
DTSTART:20260308T070000
END:DAYLIGHT
BEGIN:STANDARD
TZOFFSETFROM:-0400
TZOFFSETTO:-0500
TZNAME:EST
DTSTART:20261101T060000
END:STANDARD
END:VTIMEZONE
BEGIN:VEVENT
DTSTART;TZID=America/New_York:20251212T140000
DTEND;TZID=America/New_York:20251212T160000
DTSTAMP:20260424T174133
CREATED:20251114T224051Z
LAST-MODIFIED:20251114T224051Z
UID:2168-1765548000-1765555200@caesarcreekstatepark.com
SUMMARY:Healthy Hearts Hike
DESCRIPTION:• Join Park Naturalist Erin Shaw for a three-mile guided moderate hike through Pioneer\nVillage to Horseshoe Falls\, across the Swinging Bridge and back. This is a general naturalist\nhike\, all ages welcome.\n• Wear sturdy shoes\, bring water\, dress for the weather.\n• Trails can be muddy.\n• Check the ‘Caesar Creek State Park’ Facebook page the morning of the event for details\nand updates.
URL:https://caesarcreekstatepark.com/event/healthy-hearts-hike/
LOCATION:Caesar Creek Nature Center\, 4006 Pioneer Village Road\, Waynesville\, OH\, 45068\, United States
END:VEVENT
END:VCALENDAR