BEGIN:VCALENDAR
VERSION:2.0
PRODID:-//NCACC - ECPv6.15.18//NONSGML v1.0//EN
CALSCALE:GREGORIAN
METHOD:PUBLISH
X-WR-CALNAME:NCACC
X-ORIGINAL-URL:https://caesarcreekstatepark.com
X-WR-CALDESC:Events for NCACC
REFRESH-INTERVAL;VALUE=DURATION:PT1H
X-Robots-Tag:noindex
X-PUBLISHED-TTL:PT1H
BEGIN:VTIMEZONE
TZID:America/New_York
BEGIN:DAYLIGHT
TZOFFSETFROM:-0500
TZOFFSETTO:-0400
TZNAME:EDT
DTSTART:20240310T070000
END:DAYLIGHT
BEGIN:STANDARD
TZOFFSETFROM:-0400
TZOFFSETTO:-0500
TZNAME:EST
DTSTART:20241103T060000
END:STANDARD
BEGIN:DAYLIGHT
TZOFFSETFROM:-0500
TZOFFSETTO:-0400
TZNAME:EDT
DTSTART:20250309T070000
END:DAYLIGHT
BEGIN:STANDARD
TZOFFSETFROM:-0400
TZOFFSETTO:-0500
TZNAME:EST
DTSTART:20251102T060000
END:STANDARD
BEGIN:DAYLIGHT
TZOFFSETFROM:-0500
TZOFFSETTO:-0400
TZNAME:EDT
DTSTART:20260308T070000
END:DAYLIGHT
BEGIN:STANDARD
TZOFFSETFROM:-0400
TZOFFSETTO:-0500
TZNAME:EST
DTSTART:20261101T060000
END:STANDARD
END:VTIMEZONE
BEGIN:VEVENT
DTSTART;VALUE=DATE:20251108
DTEND;VALUE=DATE:20251109
DTSTAMP:20260424T174112
CREATED:20250831T153124Z
LAST-MODIFIED:20250831T153124Z
UID:2138-1762560000-1762646399@caesarcreekstatepark.com
SUMMARY:OwlFest!
DESCRIPTION:All Day – See separate flyer for details\nJoin our Park Naturalist and the Corps of Engineers for a unique event celebrating owls and wonders of the night.\nExperience Owls in Flight with the Ohio School of Falconry for an up-close and in person experience with live owls.
URL:https://caesarcreekstatepark.com/event/owlfest/
LOCATION:Visitor Center\, 4020 N Clarksville Rd\, Waynesville\, Ohio\, 45068
END:VEVENT
BEGIN:VEVENT
DTSTART;TZID=America/New_York:20251113T093000
DTEND;TZID=America/New_York:20251113T143000
DTSTAMP:20260424T174112
CREATED:20250831T153219Z
LAST-MODIFIED:20250831T153219Z
UID:2140-1763026200-1763044200@caesarcreekstatepark.com
SUMMARY:Land Stewardship
DESCRIPTION:Meet the Naturalist to learn about the importance of native plants.\nLearn how to remove invasive species.\nOptional. Bring boots and gloves for a hands-on experience with our stewardship team if you choose. Or\, stop by for a walk and talk as we go along.
URL:https://caesarcreekstatepark.com/event/land-stewardship-8/
LOCATION:Caesar Creek Nature Center\, 4006 Pioneer Village Road\, Waynesville\, OH\, 45068\, United States
END:VEVENT
BEGIN:VEVENT
DTSTART;TZID=America/New_York:20251114T130000
DTEND;TZID=America/New_York:20251114T150000
DTSTAMP:20260424T174112
CREATED:20250831T153438Z
LAST-MODIFIED:20250831T153438Z
UID:2144-1763125200-1763132400@caesarcreekstatepark.com
SUMMARY:National Take a Hike Day Program
DESCRIPTION:Discover local flora and fauna on a three-mile guided hike with the park naturalist.\nFree and open to the public.
URL:https://caesarcreekstatepark.com/event/national-take-a-hike-day-program/
LOCATION:Pioneer Village\, 3999 Pioneer Village Road\, Waynesville\, Ohio\, 45068
END:VEVENT
BEGIN:VEVENT
DTSTART;TZID=America/New_York:20251114T170000
DTEND;TZID=America/New_York:20251114T180000
DTSTAMP:20260424T174112
CREATED:20250831T153327Z
LAST-MODIFIED:20250831T153327Z
UID:2142-1763139600-1763143200@caesarcreekstatepark.com
SUMMARY:Wildlife Hike
DESCRIPTION:Discover local flora and fauna on a one-mile guided hike with the park naturalist.\nFree and open to the public.
URL:https://caesarcreekstatepark.com/event/wildlife-hike-5/
LOCATION:Caesar Creek Campground Amphitheater\, 9000 Center Road\, Wilmington\, Ohio\, 45068
END:VEVENT
BEGIN:VEVENT
DTSTART;TZID=America/New_York:20251122T110000
DTEND;TZID=America/New_York:20251122T140000
DTSTAMP:20260424T174112
CREATED:20250831T153531Z
LAST-MODIFIED:20251024T223334Z
UID:2146-1763809200-1763820000@caesarcreekstatepark.com
SUMMARY:Cast-Iron Cooking Demo (Postponed until Spring)
DESCRIPTION:Learn historic and modern campfire cooking techniques.\nOptional – pre-registration required for a pot-luck meal cooked over the fire with NCACC.\n\n  \nThis event has been postponed until probably spring. If we find a good weekend. Keep an eye here for the new date!
URL:https://caesarcreekstatepark.com/event/cast-iron-cooking-demo-date-to-be-confirmed/
LOCATION:Caesar Creek Nature Center\, 4006 Pioneer Village Road\, Waynesville\, OH\, 45068\, United States
END:VEVENT
END:VCALENDAR